

BEGIN:VCALENDAR
VERSION:2.0
PRODID:-//The AI Assembly - ECPv6.15.20//NONSGML v1.0//EN
CALSCALE:GREGORIAN
METHOD:PUBLISH
X-ORIGINAL-URL:https://theaiassembly.com
X-WR-CALDESC:Events for The AI Assembly
REFRESH-INTERVAL;VALUE=DURATION:PT1H
X-Robots-Tag:noindex
X-PUBLISHED-TTL:PT1H
BEGIN:VTIMEZONE
TZID:Pacific/Auckland
BEGIN:STANDARD
TZOFFSETFROM:+1300
TZOFFSETTO:+1200
TZNAME:NZST
DTSTART:20240406T140000
END:STANDARD
BEGIN:DAYLIGHT
TZOFFSETFROM:+1200
TZOFFSETTO:+1300
TZNAME:NZDT
DTSTART:20240928T140000
END:DAYLIGHT
BEGIN:STANDARD
TZOFFSETFROM:+1300
TZOFFSETTO:+1200
TZNAME:NZST
DTSTART:20250405T140000
END:STANDARD
BEGIN:DAYLIGHT
TZOFFSETFROM:+1200
TZOFFSETTO:+1300
TZNAME:NZDT
DTSTART:20250927T140000
END:DAYLIGHT
BEGIN:STANDARD
TZOFFSETFROM:+1300
TZOFFSETTO:+1200
TZNAME:NZST
DTSTART:20260404T140000
END:STANDARD
BEGIN:DAYLIGHT
TZOFFSETFROM:+1200
TZOFFSETTO:+1300
TZNAME:NZDT
DTSTART:20260926T140000
END:DAYLIGHT
END:VTIMEZONE
BEGIN:VEVENT
DTSTART;TZID=Pacific/Auckland:20250918T080000
DTEND;TZID=Pacific/Auckland:20250918T170000
DTSTAMP:20260420T202143
CREATED:20250830T032724Z
LAST-MODIFIED:20250831T090140Z
UID:28807-1758182400-1758214800@theaiassembly.com
SUMMARY:Aotearoa AI Summit
DESCRIPTION:Proudly brought to you by our friends The AI Forum NZ \nIf you are a business or leader in the world of AI this event is for you! \nThe Aotearoa AI Summit 2025 is New Zealand’s essential AI event\, uniting industry leaders\, researchers\, policymakers\, and innovators to explore cutting-edge advancements and real-world applications of AI. \nThis one-day summit features keynotes\, panels\, and workshops on AI ethics\, innovation\, business\, and emerging tech. Discover how AI is transforming sectors like healthcare\, finance\, agriculture\, and government. \nWith a strong focus on collaboration and knowledge-sharing\, the summit offers exceptional networking opportunities for AI professionals\, startups\, investors\, and decision-makers. \nThe Aotearoa AI Summit is brought to you by AI Forum NZ and NZTech and it’s a must-attend event for New Zealand’s artificial intelligence ecosystem. \nFind out more and sign up here: \nAotearoa AI Summit 2025
URL:https://theaiassembly.com/event/aotearoa-ai-summit/
CATEGORIES:AI Events,The AI Assembly Community
ATTACH;FMTTYPE=image/png:https://theaiassembly.com/wp-content/uploads/2025/08/Screenshot-2025-08-30-at-8.26.01-PM.png
END:VEVENT
END:VCALENDAR